BEGIN:VCALENDAR
VERSION:2.0
PRODID:-//Crystalistic - ECPv6.15.20//NONSGML v1.0//EN
CALSCALE:GREGORIAN
METHOD:PUBLISH
X-ORIGINAL-URL:https://crystalistic.com.au
X-WR-CALDESC:Events for Crystalistic
REFRESH-INTERVAL;VALUE=DURATION:PT1H
X-Robots-Tag:noindex
X-PUBLISHED-TTL:PT1H
BEGIN:VTIMEZONE
TZID:Australia/Melbourne
BEGIN:STANDARD
TZOFFSETFROM:+1100
TZOFFSETTO:+1000
TZNAME:AEST
DTSTART:20210403T160000
END:STANDARD
BEGIN:DAYLIGHT
TZOFFSETFROM:+1000
TZOFFSETTO:+1100
TZNAME:AEDT
DTSTART:20211002T160000
END:DAYLIGHT
BEGIN:STANDARD
TZOFFSETFROM:+1100
TZOFFSETTO:+1000
TZNAME:AEST
DTSTART:20220402T160000
END:STANDARD
BEGIN:DAYLIGHT
TZOFFSETFROM:+1000
TZOFFSETTO:+1100
TZNAME:AEDT
DTSTART:20221001T160000
END:DAYLIGHT
BEGIN:STANDARD
TZOFFSETFROM:+1100
TZOFFSETTO:+1000
TZNAME:AEST
DTSTART:20230401T160000
END:STANDARD
BEGIN:DAYLIGHT
TZOFFSETFROM:+1000
TZOFFSETTO:+1100
TZNAME:AEDT
DTSTART:20230930T160000
END:DAYLIGHT
BEGIN:STANDARD
TZOFFSETFROM:+1100
TZOFFSETTO:+1000
TZNAME:AEST
DTSTART:20240406T160000
END:STANDARD
BEGIN:DAYLIGHT
TZOFFSETFROM:+1000
TZOFFSETTO:+1100
TZNAME:AEDT
DTSTART:20241005T160000
END:DAYLIGHT
END:VTIMEZONE
BEGIN:VEVENT
DTSTART;TZID=Australia/Melbourne:20230921T090000
DTEND;TZID=Australia/Melbourne:20231001T180000
DTSTAMP:20260425T002143
CREATED:20230425T073317Z
LAST-MODIFIED:20241002T110323Z
UID:9463-1695286800-1696183200@crystalistic.com.au
SUMMARY:Royal Melbourne Show
DESCRIPTION:Crystalistic will be returning to the Royal Melbourne Show from 21 September – 1 October 2023.\nThe Melbourne Show is well known for its incredible entertainment including stunt shows\, carnival rides\, animals and much more!\nMake sure you come see us. \nWhere: Melbourne Showgrounds\nWhen: September 21 – October 1\, 2023\nOpening Hours: TBA
URL:https://crystalistic.com.au/event/royal-melbourne-show/
LOCATION:Melbourne Showgrounds\, Epsom Rd\, Ascot Vale\, Melbourne\, Victoria\, 3032\, Australia
END:VEVENT
BEGIN:VEVENT
DTSTART;TZID=Australia/Melbourne:20230902T090000
DTEND;TZID=Australia/Melbourne:20230910T193000
DTSTAMP:20260425T002143
CREATED:20230424T080250Z
LAST-MODIFIED:20241002T110521Z
UID:9452-1693645200-1694374200@crystalistic.com.au
SUMMARY:Royal Adelaide Show
DESCRIPTION:We will be exhibiting at the Royal Adelaide Show from Saturday 2 September – Sunday 10 September.\nThe Adelaide Show is held every September bringing exciting animals\, performances\, carnival rides and much more.\nCome see us in the Jubilee Pavilion! \nWhere: Adelaide Showgrounds\nWhen: September 2 – September 10\, 2023\nOpening Hours: TBD
URL:https://crystalistic.com.au/event/royal-adelaide-show/
LOCATION:Adelaide Showgrounds\, Goodwood Rd\, Wayville\, Adelaide\, South Australia\, 5034\, Australia
END:VEVENT
BEGIN:VEVENT
DTSTART;TZID=Australia/Melbourne:20230616T100000
DTEND;TZID=Australia/Melbourne:20230618T170000
DTSTAMP:20260425T002143
CREATED:20230424T081105Z
LAST-MODIFIED:20241002T110620Z
UID:9456-1686909600-1687107600@crystalistic.com.au
SUMMARY:Every Woman Expo Perth
DESCRIPTION:We are extremely excited to announce we will be returning to Perth for our second EveryWoman Expo!\nTreat yourself at the EveryWoman Expo! See over 150 businesses featuring health\, beauty\, fashion\, food\, love\, lifestyle\, fitness\, spiritual solutions and more. Popular attractions include fashion catwalks\, empowering seminars\, cooking demonstrations\, beauty advice\, psychic readings and more!\nWith Free Entry\, there’s no reason NOT to come along. \nWhere: Perth Convention and Exhibition Centre\nWhen: Friday 16 June – Sunday 18 June\, 2023\nOpening Hours: 10am – 5pm daily \nClaim your FREE ticket at https://everywomanexpo.com.au/
URL:https://crystalistic.com.au/event/everywoman-expo-perth/
LOCATION:Perth Convention and Exhibition Centre\, 21 Mounts Bay Rd\, Perth\, Western Australia\, 6000\, Australia
END:VEVENT
BEGIN:VEVENT
DTSTART;TZID=Australia/Melbourne:20230609T100000
DTEND;TZID=Australia/Melbourne:20230612T180000
DTSTAMP:20260425T002143
CREATED:20230424T073444Z
LAST-MODIFIED:20241002T110735Z
UID:9427-1686304800-1686592800@crystalistic.com.au
SUMMARY:Melbourne Mind Body Spirit Festival
DESCRIPTION:We are back at Melbourne for the Mind Body Spirit Festival at the Melbourne Convention and Exhibition Centre from Friday 9 June  – Monday 12 June\nThe Mind Body Spirit Festival is Australia’s largest health\, wellbeing and natural therapies event.\nThis is one of our favourite markets of the year and with entry being free\, it’s an absolute must for anyone based in Melbourne. \nOpening Times: \nFriday 9 June: 10:00am – 7:00pm\nSaturday 10 June: 10:00am – 7:00pm\nSunday 11 June: 10:00am – 7:00pm\nMonday 12 June: 10:00am – 6:00pm \nOrder tickets at: https://www.mbsfestival.com.au/
URL:https://crystalistic.com.au/event/melbourne-mind-body-spirit-festival/
LOCATION:Melbourne Convention & Exhibition Centre\, 1 Convention Centre Place\, South Wharf\, Vic 3006\, Melbourne\, Victoria\, 3006\, Australia
END:VEVENT
BEGIN:VEVENT
DTSTART;TZID=Australia/Melbourne:20230527T100000
DTEND;TZID=Australia/Melbourne:20230528T170000
DTSTAMP:20260425T002143
CREATED:20230424T074834Z
LAST-MODIFIED:20241002T111105Z
UID:9435-1685181600-1685293200@crystalistic.com.au
SUMMARY:Adelaide Body Mind Psychic Expo
DESCRIPTION:We are excited to announce we will be at the Adelaide Showgrounds for this year’s Body Mind Psychic Expo.\nThe Body Mind Psychic Expo is a weekend of adventure and fun for those whose minds are open to “the alternatives”…people who think for themselves…and those who are willing to try something different. \nWhere: Adelaide Showgrounds Jubilee Pavilion\nWhen: May 27 & May 28\, 2023\nOpening Hours: \n10am – 6pm Saturday\n10am – 5pm Sunday \nPurchase tickets online at: http://www.bodymindpsychic.com/buy-tickets-online.html\n \n 
URL:https://crystalistic.com.au/event/adelaide-body-mind-psychic-expo/
LOCATION:Adelaide Showgrounds\, Goodwood Rd\, Wayville\, Adelaide\, South Australia\, 5034\, Australia
END:VEVENT
BEGIN:VEVENT
DTSTART;TZID=Australia/Melbourne:20230518T100000
DTEND;TZID=Australia/Melbourne:20230521T180000
DTSTAMP:20260425T002143
CREATED:20230421T092450Z
LAST-MODIFIED:20241002T110948Z
UID:9418-1684404000-1684692000@crystalistic.com.au
SUMMARY:Sydney Mind Body Spirit Festival
DESCRIPTION:We are back in Sydney for the Mind Body Spirit Festival at ICC Sydney from Thursday 18 May – Sunday 21 May\nThe Mind BodySpirit Festival is Australia’s largest health\, wellbeing and natural therapies event.\nThis is one of our favourite markets of the year and with entry being free\, it’s an absolute must for anyone based in Sydney. \nOpening Times: \nThursday 18 May: 10:00am – 7:00pm\nFriday 19 May: 10:00am – 7:00pm\nSaturday 20 May: 10:00am – 7:00pm\nSunday 21 May: 10:00am – 6:00pm \nOrder tickets at: https://tickets.lup.com.au/mindbodyspirit-sydney-2023?CAT=CAT-REGISTRATION
URL:https://crystalistic.com.au/event/sydney-mind-body-spirit-festival/
LOCATION:International Convention Centre Sydney (ICC Sydney)\, Sydney\, Australia\, 14 Darling Dr\, Sydney\, New South Wales\, 2000\, Australia
END:VEVENT
BEGIN:VEVENT
DTSTART;TZID=Australia/Melbourne:20221125T160000
DTEND;TZID=Australia/Melbourne:20221127T180000
DTSTAMP:20260425T002143
CREATED:20221117T235307Z
LAST-MODIFIED:20241002T110844Z
UID:7011-1669392000-1669572000@crystalistic.com.au
SUMMARY:Melbourne Sexpo 2022
DESCRIPTION:We will be at Sexpo Melbourne on Friday 25 November – Sunday 27 November.\nThis is our last major market for 2022 and we will be providing some amazing deals to finish off the year.\nSexpo is the world’s largest and longest running adult exhibition and is providing some amazing stalls and entertainment.\nWe will be at store number F12\nLooking forward to seeing you there! \nOpening Times:\nFriday 25 November: 4pm – 12am\nSaturday 26 November: 11am – 5pm and 6pm – 12am\nSunday 27 November: 11am – 6pm
URL:https://crystalistic.com.au/event/melbourne-sexpo-2022/
LOCATION:Melbourne Convention & Exhibition Centre\, 1 Convention Centre Place\, South Wharf\, Vic 3006\, Melbourne\, Victoria\, 3006\, Australia
END:VEVENT
END:VCALENDAR